BEGIN:VCALENDAR
VERSION:2.0
PRODID:icalendar-ruby
CALSCALE:GREGORIAN
METHOD:PUBLISH
BEGIN:VEVENT
DTSTAMP:20260425T033954Z
UID:5-1731155@epiphanysurrey.org
DTSTART:20261013T020000Z
DTEND:20261013T021500Z
CLASS:PUBLIC
CREATED:20260424T180407
DESCRIPTION:A short evening service (ten minutes) to complete the day. A se
 ries of psalms\, readings and prayers as we prepare to rest from our work 
 at the end of the day. This event takes place via Zoom. 
LAST-MODIFIED:20260424T180407
LOCATION:
SUMMARY:Compline
URL;VALUE=URI:https://epiphanysurrey.org/events/compline/2026-10-12
END:VEVENT
END:VCALENDAR
